BEGIN:VCALENDAR
VERSION:2.0
PRODID:-//ChamberMaster//Event Calendar 2.0//EN
METHOD:PUBLISH
X-PUBLISHED-TTL:P3D
REFRESH-INTERVAL:P3D
CALSCALE:GREGORIAN
BEGIN:VEVENT
DTSTART:20260505T173000Z
DTEND:20260505T183000Z
X-MICROSOFT-CDO-ALLDAYEVENT:FALSE
SUMMARY:?? YOU’RE INVITED ?? Cortisol Reset Through Functional Nutrition & Integrative Health
DESCRIPTION:?? YOU'RE INVITED ??\n\nCortisol Reset Through Functional Nutrition & Integrative Health\n\nHonoring Mothers at Every Stage\n\n?? Tuesday\, May 5\n\n? 12:30 PM   1:30 PM\n\n?? Curis Functional Health   Southlake\n\nJoin us for a 60-minute informative event with our very own Registered Dietitian\,\n\nCarrie Slezak\, RD\n\nAbout the Event\n\nFrom caring for young children to supporting aging parents\, motherhood comes with unique stressors at every stage. This special session is designed to support women by focusing on cortisol balance\, sustained energy\, and stress relief just in time for Mother's Day.\n\nMany health challenges today stem from imbalances in:\n\n  The nervous system\n\n  The digestive (GI) system\n\n  Hormonal function\n\nAll of these are deeply influenced by nutrition.\n\nAt our office:\n\n? Chiropractic care restores healthy nervous system communication\n\n? Biofeedback and on-wave frequency medicine provide insight into stress patterns\n\n? Functional nutrition delivers the essential fuel your body needs to heal and adapt\n\nWhen structure\, regulation\, and nourishment work together\, your body is better equipped to achieve lasting balance and wellness from the inside out.\n\nLimited Spots available\, Reserve Your Spot Today!\n\nCelebrate yourself or the mothers in your life by investing in health\, balance\, and vitality. ??\n\n\n\nClick here for FB link: https://www.facebook.com/share/14c8wy1gik2/
X-ALT-DESC;FMTTYPE=text/html:?? YOU&rsquo\;RE INVITED ??<br />\nCortisol Reset Through Functional Nutrition &amp\; Integrative Health<br />\nHonoring Mothers at Every Stage<br />\n?? Tuesday\, May 5<br />\n? 12:30 PM &ndash\; 1:30 PM<br />\n?? Curis Functional Health &ndash\; Southlake<br />\nJoin us for a 60-minute informative event with our very own Registered Dietitian\,<br />\nCarrie Slezak\, RD<br />\nAbout the Event<br />\nFrom caring for young children to supporting aging parents\, motherhood comes with unique stressors at every stage. This special session is designed to support women by focusing on cortisol balance\, sustained energy\, and stress relief&mdash\;just in time for Mother&rsquo\;s Day.<br />\nMany health challenges today stem from imbalances in:<br />\n&bull\; The nervous system<br />\n&bull\; The digestive (GI) system<br />\n&bull\; Hormonal function<br />\nAll of these are deeply influenced by nutrition.<br />\nAt our office:<br />\n? Chiropractic care restores healthy nervous system communication<br />\n? Biofeedback and on-wave frequency medicine provide insight into stress patterns<br />\n? Functional nutrition delivers the essential fuel your body needs to heal and adapt<br />\nWhen structure\, regulation\, and nourishment work together\, your body is better equipped to achieve lasting balance and wellness&mdash\;from the inside out.<br />\nLimited Spots available\, Reserve Your Spot Today!<br />\nCelebrate yourself or the mothers in your life by investing in health\, balance\, and vitality. ??<br />\n<br />\nClick here for FB link:&nbsp\;https://www.facebook.com/share/14c8wy1gik2/
LOCATION:
UID:e.1211.24991
SEQUENCE:3
DTSTAMP:20260422T192550Z
URL:https://www.southlakechamber.com/events/details/you-re-invited-cortisol-reset-through-functional-nutrition-integrative-health-24991
END:VEVENT

END:VCALENDAR
